Workbook

Sheet Angebotsliste
A1: Bezeichnung des Verkaufstermins | F1: Datum des Termins | H1: Gebotseröffnung | I1: Kontakt
A2: Iphofen 2026 | F2: 46098 | H2: 8:00 Uhr | I2: Birgitt Ulrich, 97461 Hofheim, Landgerichtstr. 12, 09523/503380
A3: Platz: Schönstheim | E3: 27 | F3: Aufwurf-menge | G3: =TEXT(ROUND(SUM(E12:E100),2),"0,00")&" fm" -> 112,78 fm | H3: =COUNTIF(A12:A100,">0")&" Lose" -> 10 Lose | L3: =SUBSTITUTE(L5," ","")
B4: Firmenname und Firmenanschrift | G4: USt.-ID | H4: Firmenkürzel | I4: Platztelefon
A5: Firma: | H5: =IF(LEN(B5)=0,"",SUBSTITUTE(L5,","," ")) | I5: Hans Götz | L5: =IF(LEN(B5)=0,"",SUBSTITUTE(LEFT($B$5,20),"&","u")&" - "&SUBSTITUTE(LEFT($B$6,15),"&","u"))
A6: Anschrift: | I6: 0157/83546799
A7: Zusammenfassung der Gebote | C7: Anzahl bebotene Lose | D7: Summe bebotene Festmeter | E7: Gesamt-summe aller Gebote | I7: Firmentelefon
I8: Fax-Nr.
A9: ="- Stammholz-Lose -" -> - Stammholz-Lose - | C9: =COUNTIF(F12:F14,">0") -> 0 | D9: =SUMIF(F12:F14,">0",E12:E14) -> 0 | E9: =SUMIF(F12:F14,">0",K12:K14) -> 0 | I9: Email-Adresse
A10: Unterschriftenleiste für Druck der 1. Seite | C10: Datum der Gebotsabgabe: | E10: =IF(LEN(B6)>0,TODAY(),IF(LEN(B6)=0,"Firmennamen und -sitz, ggfls. USt.-ID eintragen")) -> Firmennamen und -sitz, ggfls. USt.-ID eintragen | G10: Unterschrift - Firmenvertreter | H10: =IF(AND(LEN(F7)>0,LEN(F8)>0,LEN(F9)>0),"",IF(LEN(F7)=0,"Bitte Tel-Nr eintragen",IF(AND(LEN(F8)=0,LEN(F9)=0),"Bitte Fax-Nr/Email eintragen",""))) -> Bitte Tel-Nr eintragen
A11: Los-Nr. | B11: Holzart(en) | C11: Güte | D11: Stückzahl Los | E11: fm je Los | F11: Gebot in € je fm | G11: Bemerkungen des Bieters | H11: Info z. Los (überw. Stärke) | I11: Anbieter | J11: Firmen-Kürzel | K11: EK für das Los | L11: Verkaufs-gruppe
A12: 3796 | B12: Eiche-Los | C12: B 5-6 | D12: 11 | E12: 10.45 | H12: Pl. Schönstheim blauer Punkt Stärke 5/6 | I12: FBG Neustadt/ Uffenheim | J12: =IF(LEN(F12)=0,"",IF(AND(LEN(F12)>0,LEN($H$5)=0),LEFT($C$6,10),IF(LEN(F12)>0,$H$5,""))) | K12: =IF(OR(LEN(F12)=0,F12="Gebot in € je fm"),"",E12*F12) | L12: 28
A13: 3797 | B13: Eiche-Los | C13: B 5-6 | D13: 12 | E13: 11.62 | H13: Pl. Schönstheim 2x blauer Punkt Stärke 5/6 | I13: FBG Neustadt/ Uffenheim | J13: =IF(LEN(F13)=0,"",IF(AND(LEN(F13)>0,LEN($H$5)=0),LEFT($C$6,10),IF(LEN(F13)>0,$H$5,""))) | K13: =IF(OR(LEN(F13)=0,F13="Gebot in € je fm"),"",E13*F13) | L13: 28
A14: 3798 | B14: Eiche-Los | C14: B 3-4 | D14: 11 | E14: 7.93 | H14: Pl. Schönstheim 2x grüner Punkt Stärke 3/4 | I14: FBG Neustadt/ Uffenheim | J14: =IF(LEN(F14)=0,"",IF(AND(LEN(F14)>0,LEN($H$5)=0),LEFT($C$6,10),IF(LEN(F14)>0,$H$5,""))) | K14: =IF(OR(LEN(F14)=0,F14="Gebot in € je fm"),"",E14*F14) | L14: 28
A15: 3799 | B15: Eiche-Los | C15: B 3-4 | D15: 17 | E15: 9.73 | H15: Pl. Schönstheim grüner Punkt Stärke 3/4 | I15: FBG Neustadt/ Uffenheim | J15: =IF(LEN(F15)=0,"",IF(AND(LEN(F15)>0,LEN($H$5)=0),LEFT($C$6,10),IF(LEN(F15)>0,$H$5,""))) | L15: 28
A16: 3800 | B16: Eiche-Los | C16: C 5-6 | D16: 15 | E16: 14.77 | H16: Pl. Schönstheim blauer Strich Stärke 5/6 | I16: FBG Neustadt/ Uffenheim | J16: =IF(LEN(F16)=0,"",IF(AND(LEN(F16)>0,LEN($H$5)=0),LEFT($C$6,10),IF(LEN(F16)>0,$H$5,""))) | L16: 28
A17: 3801 | B17: Eiche-Los | C17: C 3-4 | D17: 18 | E17: 11.41 | H17: Pl. Schönstheim grüner Strich Stärke 3/4 | I17: FBG Neustadt/ Uffenheim | J17: =IF(LEN(F17)=0,"",IF(AND(LEN(F17)>0,LEN($H$5)=0),LEFT($C$6,10),IF(LEN(F17)>0,$H$5,""))) | L17: 28
A18: 3802 | B18: Eiche-Los | C18: C 3-4 | D18: 11 | E18: 6.93 | H18: Pl. Schönstheim 2x grüner Strich Stärke 3/4 | I18: FBG Neustadt/ Uffenheim | J18: =IF(LEN(F18)=0,"",IF(AND(LEN(F18)>0,LEN($H$5)=0),LEFT($C$6,10),IF(LEN(F18)>0,$H$5,""))) | L18: 28
A19: 3803 | B19: Eiche-Los | C19: D | D19: 11 | E19: 11.04 | H19: Pl. Schönstheim blaues Kreuz | I19: FBG Neustadt/ Uffenheim | J19: =IF(LEN(F19)=0,"",IF(AND(LEN(F19)>0,LEN($H$5)=0),LEFT($C$6,10),IF(LEN(F19)>0,$H$5,""))) | L19: 28
A20: 3804 | B20: Eiche-Los | C20: D | D20: 17 | E20: 16.13 | H20: Pl. Schönstheim grünes Kreuz | I20: FBG Neustadt/ Uffenheim | J20: =IF(LEN(F20)=0,"",IF(AND(LEN(F20)>0,LEN($H$5)=0),LEFT($C$6,10),IF(LEN(F20)>0,$H$5,""))) | L20: 28
A21: 3805 | B21: Eiche-Los | C21: D | D21: 11 | E21: 12.77 | H21: Pl. Schönstheim rotes Kreuz | I21: FBG Neustadt/ Uffenheim | J21: =IF(LEN(F21)=0,"",IF(AND(LEN(F21)>0,LEN($H$5)=0),LEFT($C$6,10),IF(LEN(F21)>0,$H$5,""))) | L21: 28
J22: =IF(LEN(F22)=0,"",IF(AND(LEN(F22)>0,LEN($H$5)=0),LEFT($C$6,10),IF(LEN(F22)>0,$H$5,"")))
J23: =IF(LEN(F23)=0,"",IF(AND(LEN(F23)>0,LEN($H$5)=0),LEFT($C$6,10),IF(LEN(F23)>0,$H$5,"")))
J24: =IF(LEN(F24)=0,"",IF(AND(LEN(F24)>0,LEN($H$5)=0),LEFT($C$6,10),IF(LEN(F24)>0,$H$5,"")))
J25: =IF(LEN(F25)=0,"",IF(AND(LEN(F25)>0,LEN($H$5)=0),LEFT($C$6,10),IF(LEN(F25)>0,$H$5,"")))
J26: =IF(LEN(F26)=0,"",IF(AND(LEN(F26)>0,LEN($H$5)=0),LEFT($C$6,10),IF(LEN(F26)>0,$H$5,"")))
J27: =IF(LEN(F27)=0,"",IF(AND(LEN(F27)>0,LEN($H$5)=0),LEFT($C$6,10),IF(LEN(F27)>0,$H$5,"")))
J28: =IF(LEN(F28)=0,"",IF(AND(LEN(F28)>0,LEN($H$5)=0),LEFT($C$6,10),IF(LEN(F28)>0,$H$5,"")))
J29: =IF(LEN(F29)=0,"",IF(AND(LEN(F29)>0,LEN($H$5)=0),LEFT($C$6,10),IF(LEN(F29)>0,$H$5,"")))
J30: =IF(LEN(F30)=0,"",IF(AND(LEN(F30)>0,LEN($H$5)=0),LEFT($C$6,10),IF(LEN(F30)>0,$H$5,"")))
J31: =IF(LEN(F31)=0,"",IF(AND(LEN(F31)>0,LEN($H$5)=0),LEFT($C$6,10),IF(LEN(F31)>0,$H$5,"")))
J32: =IF(LEN(F32)=0,"",IF(AND(LEN(F32)>0,LEN($H$5)=0),LEFT($C$6,10),IF(LEN(F32)>0,$H$5,"")))
J33: =IF(LEN(F33)=0,"",IF(AND(LEN(F33)>0,LEN($H$5)=0),LEFT($C$6,10),IF(LEN(F33)>0,$H$5,"")))
... J500: =IF(LEN(F500)=0,"",IF(AND(LEN(F500)>0,LEN($H$5)=0),LEFT($C$6,10),IF(LEN(F500)>0,$H$5,"")))

Sheet Zusammenstellung
A1: Verkaufsgruppe | B1: Stammnummer | C1: Käufer | D1: Gebot | E1: Los | F1: Lager | G1: Firma | H1: Kd.-Bemerkg. | I1: Gebote - Anz. Stämme | J1: Gebote - fm | K1: Gebote - €-Gesamt | M1: =COUNTIF(B2:B1008,">0") -> 0 | N1: Zeilenbeschriftungen | O1: Mittelwert von Verkaufs-gruppe | P1: Mittelwert von Gebot in € je fm | Q1: Anzahl von Bemerkungen des Bieters
A2: =IF(LEN(O2)=0,"",O2) | B2: =IF(LEN(N2)=0,"",N2) | C2: =IF(AND(LEN(Angebotsliste!$A$4)>0,LEN(Zusammenstellung!B2)>0),Angebotsliste!$A$4,"") | D2: =IF(LEN(P2)=0,"",P2) | F2: =IF(LEN(B2)=0,"",ABS(RIGHT(Angebotsliste!$E$3,2))) | G2: =IF(AND(LEN(B2)>0,LEN(D2)=0),"",IF(AND(LEN(B2)=0,D2>0),"",Angebotsliste!$H$5)) | H2: =IF(LEN(B2)=0,"",IF(VLOOKUP(B2,Angebotsliste!$A$12:$G$14,7,FALSE)=0,"",VLOOKUP(B2,Angebotsliste!$A$12:$G$14,7,FALSE))) | I2: =Angebotsliste!$C$9 -> 0 | J2: =Angebotsliste!$D$9 -> 0 | K2: =Angebotsliste!$E$9 -> 0
A3: =IF(LEN(O3)=0,"",O3) | B3: =IF(LEN(N3)=0,"",N3) | C3: =IF(AND(LEN(Angebotsliste!$A$4)>0,LEN(Zusammenstellung!B3)>0),Angebotsliste!$A$4,"") | D3: =IF(LEN(P3)=0,"",P3) | F3: =IF(LEN(B3)=0,"",ABS(RIGHT(Angebotsliste!$E$3,2))) | G3: =IF(AND(LEN(B3)>0,LEN(D3)=0),"",IF(AND(LEN(B3)=0,D3>0),"",Angebotsliste!$H$5)) | H3: =IF(LEN(B3)=0,"",IF(VLOOKUP(B3,Angebotsliste!$A$12:$G$14,7,FALSE)=0,"",VLOOKUP(B3,Angebotsliste!$A$12:$G$14,7,FALSE)))
A4: =IF(LEN(O4)=0,"",O4) | B4: =IF(LEN(N4)=0,"",N4) | C4: =IF(AND(LEN(Angebotsliste!$A$4)>0,LEN(Zusammenstellung!B4)>0),Angebotsliste!$A$4,"") | D4: =IF(LEN(P4)=0,"",P4) | F4: =IF(LEN(B4)=0,"",ABS(RIGHT(Angebotsliste!$E$3,2))) | G4: =IF(AND(LEN(B4)>0,LEN(D4)=0),"",IF(AND(LEN(B4)=0,D4>0),"",Angebotsliste!$H$5)) | H4: =IF(LEN(B4)=0,"",IF(VLOOKUP(B4,Angebotsliste!$A$12:$G$14,7,FALSE)=0,"",VLOOKUP(B4,Angebotsliste!$A$12:$G$14,7,FALSE)))
A5: =IF(LEN(O5)=0,"",O5) | B5: =IF(LEN(N5)=0,"",N5) | C5: =IF(AND(LEN(Angebotsliste!$A$4)>0,LEN(Zusammenstellung!B5)>0),Angebotsliste!$A$4,"") | D5: =IF(LEN(P5)=0,"",P5) | F5: =IF(LEN(B5)=0,"",ABS(RIGHT(Angebotsliste!$E$3,2))) | G5: =IF(AND(LEN(B5)>0,LEN(D5)=0),"",IF(AND(LEN(B5)=0,D5>0),"",Angebotsliste!$H$5)) | H5: =IF(LEN(B5)=0,"",IF(VLOOKUP(B5,Angebotsliste!$A$12:$G$14,7,FALSE)=0,"",VLOOKUP(B5,Angebotsliste!$A$12:$G$14,7,FALSE)))
A6: =IF(LEN(O6)=0,"",O6) | B6: =IF(LEN(N6)=0,"",N6) | C6: =IF(AND(LEN(Angebotsliste!$A$4)>0,LEN(Zusammenstellung!B6)>0),Angebotsliste!$A$4,"") | D6: =IF(LEN(P6)=0,"",P6) | F6: =IF(LEN(B6)=0,"",ABS(RIGHT(Angebotsliste!$E$3,2))) | G6: =IF(AND(LEN(B6)>0,LEN(D6)=0),"",IF(AND(LEN(B6)=0,D6>0),"",Angebotsliste!$H$5)) | H6: =IF(LEN(B6)=0,"",IF(VLOOKUP(B6,Angebotsliste!$A$12:$G$14,7,FALSE)=0,"",VLOOKUP(B6,Angebotsliste!$A$12:$G$14,7,FALSE)))
A7: =IF(LEN(O7)=0,"",O7) | B7: =IF(LEN(N7)=0,"",N7) | C7: =IF(AND(LEN(Angebotsliste!$A$4)>0,LEN(Zusammenstellung!B7)>0),Angebotsliste!$A$4,"") | D7: =IF(LEN(P7)=0,"",P7) | F7: =IF(LEN(B7)=0,"",ABS(RIGHT(Angebotsliste!$E$3,2))) | G7: =IF(AND(LEN(B7)>0,LEN(D7)=0),"",IF(AND(LEN(B7)=0,D7>0),"",Angebotsliste!$H$5)) | H7: =IF(LEN(B7)=0,"",IF(VLOOKUP(B7,Angebotsliste!$A$12:$G$14,7,FALSE)=0,"",VLOOKUP(B7,Angebotsliste!$A$12:$G$14,7,FALSE)))
A8: =IF(LEN(O8)=0,"",O8) | B8: =IF(LEN(N8)=0,"",N8) | C8: =IF(AND(LEN(Angebotsliste!$A$4)>0,LEN(Zusammenstellung!B8)>0),Angebotsliste!$A$4,"") | D8: =IF(LEN(P8)=0,"",P8) | F8: =IF(LEN(B8)=0,"",ABS(RIGHT(Angebotsliste!$E$3,2))) | G8: =IF(AND(LEN(B8)>0,LEN(D8)=0),"",IF(AND(LEN(B8)=0,D8>0),"",Angebotsliste!$H$5)) | H8: =IF(LEN(B8)=0,"",IF(VLOOKUP(B8,Angebotsliste!$A$12:$G$14,7,FALSE)=0,"",VLOOKUP(B8,Angebotsliste!$A$12:$G$14,7,FALSE)))
A9: =IF(LEN(O9)=0,"",O9) | B9: =IF(LEN(N9)=0,"",N9) | C9: =IF(AND(LEN(Angebotsliste!$A$4)>0,LEN(Zusammenstellung!B9)>0),Angebotsliste!$A$4,"") | D9: =IF(LEN(P9)=0,"",P9) | F9: =IF(LEN(B9)=0,"",ABS(RIGHT(Angebotsliste!$E$3,2))) | G9: =IF(AND(LEN(B9)>0,LEN(D9)=0),"",IF(AND(LEN(B9)=0,D9>0),"",Angebotsliste!$H$5)) | H9: =IF(LEN(B9)=0,"",IF(VLOOKUP(B9,Angebotsliste!$A$12:$G$14,7,FALSE)=0,"",VLOOKUP(B9,Angebotsliste!$A$12:$G$14,7,FALSE)))
A10: =IF(LEN(O10)=0,"",O10) | B10: =IF(LEN(N10)=0,"",N10) | C10: =IF(AND(LEN(Angebotsliste!$A$4)>0,LEN(Zusammenstellung!B10)>0),Angebotsliste!$A$4,"") | D10: =IF(LEN(P10)=0,"",P10) | F10: =IF(LEN(B10)=0,"",ABS(RIGHT(Angebotsliste!$E$3,2))) | G10: =IF(AND(LEN(B10)>0,LEN(D10)=0),"",IF(AND(LEN(B10)=0,D10>0),"",Angebotsliste!$H$5)) | H10: =IF(LEN(B10)=0,"",IF(VLOOKUP(B10,Angebotsliste!$A$12:$G$14,7,FALSE)=0,"",VLOOKUP(B10,Angebotsliste!$A$12:$G$14,7,FALSE)))
A11: =IF(LEN(O11)=0,"",O11) | B11: =IF(LEN(N11)=0,"",N11) | C11: =IF(AND(LEN(Angebotsliste!$A$4)>0,LEN(Zusammenstellung!B11)>0),Angebotsliste!$A$4,"") | D11: =IF(LEN(P11)=0,"",P11) | F11: =IF(LEN(B11)=0,"",ABS(RIGHT(Angebotsliste!$E$3,2))) | G11: =IF(AND(LEN(B11)>0,LEN(D11)=0),"",IF(AND(LEN(B11)=0,D11>0),"",Angebotsliste!$H$5)) | H11: =IF(LEN(B11)=0,"",IF(VLOOKUP(B11,Angebotsliste!$A$12:$G$14,7,FALSE)=0,"",VLOOKUP(B11,Angebotsliste!$A$12:$G$14,7,FALSE)))
A12: =IF(LEN(O12)=0,"",O12) | B12: =IF(LEN(N12)=0,"",N12) | C12: =IF(AND(LEN(Angebotsliste!$A$4)>0,LEN(Zusammenstellung!B12)>0),Angebotsliste!$A$4,"") | D12: =IF(LEN(P12)=0,"",P12) | F12: =IF(LEN(B12)=0,"",ABS(RIGHT(Angebotsliste!$E$3,2))) | G12: =IF(AND(LEN(B12)>0,LEN(D12)=0),"",IF(AND(LEN(B12)=0,D12>0),"",Angebotsliste!$H$5)) | H12: =IF(LEN(B12)=0,"",IF(VLOOKUP(B12,Angebotsliste!$A$12:$G$14,7,FALSE)=0,"",VLOOKUP(B12,Angebotsliste!$A$12:$G$14,7,FALSE)))
A13: =IF(LEN(O13)=0,"",O13) | B13: =IF(LEN(N13)=0,"",N13) | C13: =IF(AND(LEN(Angebotsliste!$A$4)>0,LEN(Zusammenstellung!B13)>0),Angebotsliste!$A$4,"") | D13: =IF(LEN(P13)=0,"",P13) | F13: =IF(LEN(B13)=0,"",ABS(RIGHT(Angebotsliste!$E$3,2))) | G13: =IF(AND(LEN(B13)>0,LEN(D13)=0),"",IF(AND(LEN(B13)=0,D13>0),"",Angebotsliste!$H$5)) | H13: =IF(LEN(B13)=0,"",IF(VLOOKUP(B13,Angebotsliste!$A$12:$G$14,7,FALSE)=0,"",VLOOKUP(B13,Angebotsliste!$A$12:$G$14,7,FALSE)))
A14: =IF(LEN(O14)=0,"",O14) | B14: =IF(LEN(N14)=0,"",N14) | C14: =IF(AND(LEN(Angebotsliste!$A$4)>0,LEN(Zusammenstellung!B14)>0),Angebotsliste!$A$4,"") | D14: =IF(LEN(P14)=0,"",P14) | F14: =IF(LEN(B14)=0,"",ABS(RIGHT(Angebotsliste!$E$3,2))) | G14: =IF(AND(LEN(B14)>0,LEN(D14)=0),"",IF(AND(LEN(B14)=0,D14>0),"",Angebotsliste!$H$5)) | H14: =IF(LEN(B14)=0,"",IF(VLOOKUP(B14,Angebotsliste!$A$12:$G$14,7,FALSE)=0,"",VLOOKUP(B14,Angebotsliste!$A$12:$G$14,7,FALSE)))
... A1008: =IF(LEN(O1008)=0,"",O1008) | B1008: =IF(LEN(N1008)=0,"",N1008) | C1008: =IF(AND(LEN(Angebotsliste!$A$4)>0,LEN(Zusammenstellung!B1008)>0),Angebotsliste!$A$4,"") | D1008: =IF(LEN(P1008)=0,"",P1008) | F1008: =IF(LEN(B1008)=0,"",ABS(RIGHT(Angebotsliste!$E$3,2))) | G1008: =IF(AND(LEN(B1008)>0,LEN(D1008)=0),"",IF(AND(LEN(B1008)=0,D1008>0),"",Angebotsliste!$H$5)) | H1008: =IF(LEN(B1008)=0,"",IF(VLOOKUP(B1008,Angebotsliste!$A$12:$G$14,7,FALSE)=0,"",VLOOKUP(B1008,Angebotsliste!$A$12:$G$14,7,FALSE)))
